BEGIN:VCALENDAR
VERSION:2.0
PRODID:-//United Potato Growers of Canada - ECPv6.15.20//NONSGML v1.0//EN
CALSCALE:GREGORIAN
METHOD:PUBLISH
X-WR-CALNAME:United Potato Growers of Canada
X-ORIGINAL-URL:https://unitedpotatocanada.com
X-WR-CALDESC:Events for United Potato Growers of Canada
REFRESH-INTERVAL;VALUE=DURATION:PT1H
X-Robots-Tag:noindex
X-PUBLISHED-TTL:PT1H
BEGIN:VTIMEZONE
TZID:America/Halifax
BEGIN:DAYLIGHT
TZOFFSETFROM:-0400
TZOFFSETTO:-0300
TZNAME:ADT
DTSTART:20240310T060000
END:DAYLIGHT
BEGIN:STANDARD
TZOFFSETFROM:-0300
TZOFFSETTO:-0400
TZNAME:AST
DTSTART:20241103T050000
END:STANDARD
BEGIN:DAYLIGHT
TZOFFSETFROM:-0400
TZOFFSETTO:-0300
TZNAME:ADT
DTSTART:20250309T060000
END:DAYLIGHT
BEGIN:STANDARD
TZOFFSETFROM:-0300
TZOFFSETTO:-0400
TZNAME:AST
DTSTART:20251102T050000
END:STANDARD
BEGIN:DAYLIGHT
TZOFFSETFROM:-0400
TZOFFSETTO:-0300
TZNAME:ADT
DTSTART:20260308T060000
END:DAYLIGHT
BEGIN:STANDARD
TZOFFSETFROM:-0300
TZOFFSETTO:-0400
TZNAME:AST
DTSTART:20261101T050000
END:STANDARD
END:VTIMEZONE
BEGIN:VEVENT
DTSTART;TZID=America/Halifax:20250813T080000
DTEND;TZID=America/Halifax:20250813T103000
DTSTAMP:20260421T073804
CREATED:20250806T181643Z
LAST-MODIFIED:20250806T181831Z
UID:10000067-1755072000-1755081000@unitedpotatocanada.com
SUMMARY:United Potato Growers of Canada - Supply and Demand Meeting
DESCRIPTION:All Member Associations and their grower members are invited to attend the UPGC Supply and Demand meeting on Wednesday\, August 13th at the Lord Elgin Hotel in Ottawa. \nWe will be getting together to discuss items impacting supply and demand in Canada including: planted acreage\, August carryover\, Growing season to date\, Stocks on hand August 1\, New crop development and outlook.  We will also be providing an update on the crop in the US and Europe along with updates from the processing and seed sector. \nWe look forward to the participation of all growers\, whether in person or by zoom! \nPlease contact Victoria Stamper at victoria@unitedpotatocanada.com if you have not received the zoom link.
URL:https://unitedpotatocanada.com/event/united-potato-growers-of-canada-supply-and-demand-meeting/
LOCATION:Lord Elgin Hotel\, 100 Elgin St\, Ottawa\, Ontario\, K1P 5K8\, Canada
ATTACH;FMTTYPE=image/png:https://unitedpotatocanada.com/wp-content/uploads/2024/11/cropped-logo2.png
END:VEVENT
END:VCALENDAR