BEGIN:VCALENDAR
VERSION:2.0
PRODID:-//United Potato Growers of Canada - ECPv6.15.20//NONSGML v1.0//EN
CALSCALE:GREGORIAN
METHOD:PUBLISH
X-WR-CALNAME:United Potato Growers of Canada
X-ORIGINAL-URL:https://unitedpotatocanada.com
X-WR-CALDESC:Events for United Potato Growers of Canada
REFRESH-INTERVAL;VALUE=DURATION:PT1H
X-Robots-Tag:noindex
X-PUBLISHED-TTL:PT1H
BEGIN:VTIMEZONE
TZID:America/Halifax
BEGIN:DAYLIGHT
TZOFFSETFROM:-0400
TZOFFSETTO:-0300
TZNAME:ADT
DTSTART:20240310T060000
END:DAYLIGHT
BEGIN:STANDARD
TZOFFSETFROM:-0300
TZOFFSETTO:-0400
TZNAME:AST
DTSTART:20241103T050000
END:STANDARD
BEGIN:DAYLIGHT
TZOFFSETFROM:-0400
TZOFFSETTO:-0300
TZNAME:ADT
DTSTART:20250309T060000
END:DAYLIGHT
BEGIN:STANDARD
TZOFFSETFROM:-0300
TZOFFSETTO:-0400
TZNAME:AST
DTSTART:20251102T050000
END:STANDARD
BEGIN:DAYLIGHT
TZOFFSETFROM:-0400
TZOFFSETTO:-0300
TZNAME:ADT
DTSTART:20260308T060000
END:DAYLIGHT
BEGIN:STANDARD
TZOFFSETFROM:-0300
TZOFFSETTO:-0400
TZNAME:AST
DTSTART:20261101T050000
END:STANDARD
END:VTIMEZONE
BEGIN:VEVENT
DTSTART;TZID=America/Halifax:20250618T090000
DTEND;TZID=America/Halifax:20250618T200000
DTSTAMP:20260421T063514
CREATED:20250425T235406Z
LAST-MODIFIED:20250425T235406Z
UID:10000047-1750237200-1750276800@unitedpotatocanada.com
SUMMARY:Annual Ontario Potato Board Industry Social Golf Tournament
DESCRIPTION:The Ontario Potato Board is excited for their 3rd Annual Industry Social Golf Tournament! \nSadly\, the industry lost one of our own earlier this year. Mike Smalley was a strong supporter of our industry\, a board director and most importantly\, a friend. This year\, the 3rd Annual Ontario Potato Board Industry Social Golf Tournament will be held in memory of Mike. All proceeds will be donated to a charity of the Smalley family’s choosing. Let’s celebrate Mike at an event he so much enjoyed. \nAlthough all player spots for this year’s event have now been filled\, if you were late to sign up but still wish to play\, please contact the OPB who can add you to the waiting list.  If you have not already\, or are unable to attend and want to show your support\, please consider one of our sponsorship opportunities. We still need a few hole sponsors and prize donations are always welcome. \nWe are incredibly grateful to all sponsors as they are the ones that have made this event the success it is! \nhttps://www.ontariopotatoes.ca/contact-us \n 
URL:https://unitedpotatocanada.com/event/annual-ontario-potato-board-industry-social-golf-tournament/
LOCATION:Hockley Valley Resort\, 793522 3rd Line EHS\, Mono\, Ontario\, L9W 5X7\, Canada
ATTACH;FMTTYPE=image/png:https://unitedpotatocanada.com/wp-content/uploads/2025/04/ontario.png
END:VEVENT
END:VCALENDAR