BEGIN:VCALENDAR
VERSION:2.0
PRODID:-//United Potato Growers of Canada - ECPv6.15.20//NONSGML v1.0//EN
CALSCALE:GREGORIAN
METHOD:PUBLISH
X-ORIGINAL-URL:https://unitedpotatocanada.com
X-WR-CALDESC:Events for United Potato Growers of Canada
REFRESH-INTERVAL;VALUE=DURATION:PT1H
X-Robots-Tag:noindex
X-PUBLISHED-TTL:PT1H
BEGIN:VTIMEZONE
TZID:UTC
BEGIN:STANDARD
TZOFFSETFROM:+0000
TZOFFSETTO:+0000
TZNAME:UTC
DTSTART:20240101T000000
END:STANDARD
END:VTIMEZONE
BEGIN:VEVENT
DTSTART;VALUE=DATE:20250710
DTEND;VALUE=DATE:20250711
DTSTAMP:20260421T072245
CREATED:20250529T212744Z
LAST-MODIFIED:20250529T212744Z
UID:10000055-1752105600-1752191999@unitedpotatocanada.com
SUMMARY:Potato Growers of Alberta 2025 Annual Golf Tournament
DESCRIPTION:The Potato Growers of Alberta and APIA (Alberta Potato Industry Associates) are excited to host their 45th annual golf tournament at the beautiful Taber Golf Club.  This is a great opportunity for growers and industry to meet and get to know each other! \nSponsorships available! for the main tournament contact juanita@albertapotatoes.ca and for Hole Sponsors contact jared.bell@availcpa.com \nAPIA Hole in One grand prize: $50\,000!!!
URL:https://unitedpotatocanada.com/event/potato-growers-of-alberta-2025-annual-golf-tournament/
LOCATION:Taber Golf Club\, 4909 44th St\, Taber\, Alberta\, T1G 1G1\, Canada
ATTACH;FMTTYPE=image/png:https://unitedpotatocanada.com/wp-content/uploads/2024/03/pga-logo.png
END:VEVENT
END:VCALENDAR