BEGIN:VCALENDAR
VERSION:2.0
PRODID:-//United Potato Growers of Canada - ECPv6.15.20//NONSGML v1.0//EN
CALSCALE:GREGORIAN
METHOD:PUBLISH
X-WR-CALNAME:United Potato Growers of Canada
X-ORIGINAL-URL:https://unitedpotatocanada.com
X-WR-CALDESC:Events for United Potato Growers of Canada
REFRESH-INTERVAL;VALUE=DURATION:PT1H
X-Robots-Tag:noindex
X-PUBLISHED-TTL:PT1H
BEGIN:VTIMEZONE
TZID:America/New_York
BEGIN:DAYLIGHT
TZOFFSETFROM:-0500
TZOFFSETTO:-0400
TZNAME:EDT
DTSTART:20240310T070000
END:DAYLIGHT
BEGIN:STANDARD
TZOFFSETFROM:-0400
TZOFFSETTO:-0500
TZNAME:EST
DTSTART:20241103T060000
END:STANDARD
BEGIN:DAYLIGHT
TZOFFSETFROM:-0500
TZOFFSETTO:-0400
TZNAME:EDT
DTSTART:20250309T070000
END:DAYLIGHT
BEGIN:STANDARD
TZOFFSETFROM:-0400
TZOFFSETTO:-0500
TZNAME:EST
DTSTART:20251102T060000
END:STANDARD
BEGIN:DAYLIGHT
TZOFFSETFROM:-0500
TZOFFSETTO:-0400
TZNAME:EDT
DTSTART:20260308T070000
END:DAYLIGHT
BEGIN:STANDARD
TZOFFSETFROM:-0400
TZOFFSETTO:-0500
TZNAME:EST
DTSTART:20261101T060000
END:STANDARD
END:VTIMEZONE
BEGIN:VEVENT
DTSTART;VALUE=DATE:20250311
DTEND;VALUE=DATE:20250314
DTSTAMP:20260419T154532
CREATED:20250304T001916Z
LAST-MODIFIED:20250304T001916Z
UID:10000035-1741651200-1741910399@unitedpotatocanada.com
SUMMARY:Fruit & Vegetable Growers of Canada - Annual General Meeting
DESCRIPTION:The Fruit and Vegetable Growers of Canada’s (FVGC) Conference and Annual General Meeting (AGM) is a key forum where industry leaders\, growers\, and stakeholders gather to address priority issues and set the course for the year ahead. This year’s Conference and AGM will take place from March 10 to 13\, 2025\, at the Hilton Quebec in Quebec City. \nUnder the theme A Fresh Approach: Setting Goals\, Achieving Success\, the 2025 Conference and AGM highlights FVGC’s renewed focus on setting strategic goals and driving success under the leadership of our new Executive Director\, Massimo Bergamini. We will build on our strong foundation while adopting innovative approaches to advocacy and industry growth. Attendees will engage in meaningful discussions and decision-making that will define the direction of FVGC and ensure that the voice of Canadian growers is heard loud and clear. \nJoin us as we collaborate to strengthen the sector and ensure the continued success of Canada’s fruit and vegetable growers. \nClick below for more information and to register. \nFind the 2025 Registration Fee Information here.
URL:https://unitedpotatocanada.com/event/fruit-vegetable-growers-of-canada-annual-general-meeting/
LOCATION:Hilton Quebec\, 1100 Bd René-Lévesque E\, Québec\, Québec\, G1R 4P3\, Canada
ATTACH;FMTTYPE=image/webp:https://unitedpotatocanada.com/wp-content/uploads/2025/03/FVGC-logo-horizontal-EN-tagline-weblarge_V5-copy.webp
END:VEVENT
END:VCALENDAR